BEGIN:VCALENDAR
VERSION:2.0
PRODID:-//Escondite Teens - ECPv4.9.9//NONSGML v1.0//EN
CALSCALE:GREGORIAN
METHOD:PUBLISH
X-WR-CALNAME:Escondite Teens
X-ORIGINAL-URL:https://esconditeteens.es
X-WR-CALDESC:Eventos para Escondite Teens
BEGIN:VTIMEZONE
TZID:UTC
BEGIN:STANDARD
TZOFFSETFROM:+0000
TZOFFSETTO:+0000
TZNAME:UTC
DTSTART:20200101T000000
END:STANDARD
END:VTIMEZONE
BEGIN:VEVENT
DTSTART;VALUE=DATE:20200101
DTEND;VALUE=DATE:20200102
DTSTAMP:20260423T222456
CREATED:20191216T180704Z
LAST-MODIFIED:20191216T180704Z
UID:2331-1577836800-1577923199@esconditeteens.es
SUMMARY:Año Nuevo
DESCRIPTION:Evento privado \n
URL:https://esconditeteens.es/calendar/ano-nuevo/
LOCATION:Escondite teens\, Avd. García Barbón 23\, Entrada por Rúa do Roupeiro\, Vigo\, Pontevedra\, 36201\, España
ORGANIZER;CN="Escondite%20Teens":MAILTO:hola@esconditeteens.com
END:VEVENT
END:VCALENDAR