BEGIN:VCALENDAR
VERSION:2.0
PRODID:-//Escondite Teens - ECPv4.9.9//NONSGML v1.0//EN
CALSCALE:GREGORIAN
METHOD:PUBLISH
X-WR-CALNAME:Escondite Teens
X-ORIGINAL-URL:https://esconditeteens.es
X-WR-CALDESC:Eventos para Escondite Teens
BEGIN:VTIMEZONE
TZID:UTC
BEGIN:STANDARD
TZOFFSETFROM:+0000
TZOFFSETTO:+0000
TZNAME:UTC
DTSTART:20190101T000000
END:STANDARD
END:VTIMEZONE
BEGIN:VEVENT
DTSTART;TZID=UTC:20191123T110000
DTEND;TZID=UTC:20191123T140000
DTSTAMP:20260423T231736
CREATED:20191112T192359Z
LAST-MODIFIED:20191118T201230Z
UID:2113-1574506800-1574517600@esconditeteens.es
SUMMARY:Juego libre de 3 a 6 años
DESCRIPTION:Hemos preparado una mañana de juegos para los peques de 3 a 6 años\, juego creativo\, imitación\, construcciones… Si tienes que hacer algún recadito este sábado por la mañana para dejarlo todo listo para el encendido de luces… No lo dudes! Cuenta con nosotros! \nTe esperamos! Puedes traer a tus pequeños a pasar toda la mañana o bien\, horas sueltas. \nPrecio por horas. \n
URL:https://esconditeteens.es/calendar/charla-e-teens/
LOCATION:Escondite teens\, Avd. García Barbón 23\, Entrada por Rúa do Roupeiro\, Vigo\, Pontevedra\, 36201\, España
ORGANIZER;CN="Escondite%20Teens":MAILTO:hola@esconditeteens.com
END:VEVENT
END:VCALENDAR