BEGIN:VCALENDAR
VERSION:2.0
PRODID:-//Escondite Teens - ECPv4.9.9//NONSGML v1.0//EN
CALSCALE:GREGORIAN
METHOD:PUBLISH
X-WR-CALNAME:Escondite Teens
X-ORIGINAL-URL:https://esconditeteens.es
X-WR-CALDESC:Eventos para Escondite Teens
BEGIN:VTIMEZONE
TZID:UTC
BEGIN:STANDARD
TZOFFSETFROM:+0000
TZOFFSETTO:+0000
TZNAME:UTC
DTSTART:20200101T000000
END:STANDARD
END:VTIMEZONE
BEGIN:VEVENT
DTSTART;TZID=UTC:20200831T080000
DTEND;TZID=UTC:20200904T160000
DTSTAMP:20260423T221207
CREATED:20200916T154911Z
LAST-MODIFIED:20200916T154911Z
UID:2960-1598860800-1599235200@esconditeteens.es
SUMMARY:Colonia urbana - Un verano para recordar - Un universo mágico
DESCRIPTION:Durante esta semana volaremos hasta el Universo… \nDentro del bloque creativo\, trabajaremos sobre las constelaciones y la luna\, modelar\, coser\, incluso nos inventaremos una constelación usando nuestro propio cuerpo. \nTendremos papiroflexia\, papel maché\, y taller de creación de nebulosa \nSeguimos conociendo nuevos juegos en distancia y experimentando una nueva forma de jugar a algunos conocidos juegos de mesa. Como todos los veranos\, no pueden faltar nuestros juegos de agua en el exterior. \nComo siempre huerto y nuestras excursiones\, esta semana nos llevarán a la playa de la Punta\, y como siempre cruzaremos el charco… esta vez para descubrir…. Moaña! \n  \n
URL:https://esconditeteens.es/calendar/colonia-urbana-un-verano-para-recordar-un-universo-magico/
LOCATION:Escondite teens\, Avd. García Barbón 23\, Entrada por Rúa do Roupeiro\, Vigo\, Pontevedra\, 36201\, España
CATEGORIES:Colonia urbana,Taller
ATTACH;FMTTYPE=image/jpeg:https://esconditeteens.es/wp-content/uploads/2020/09/Rosa-Foto-Amigos-Cita-Frase-Día-de-la-Mujer-Instagram-Publicación-1.jpg
ORGANIZER;CN="Escondite%20Teens":MAILTO:hola@esconditeteens.com
END:VEVENT
END:VCALENDAR