BEGIN:VCALENDAR
VERSION:2.0
PRODID:-//Escondite Teens - ECPv4.9.9//NONSGML v1.0//EN
CALSCALE:GREGORIAN
METHOD:PUBLISH
X-WR-CALNAME:Escondite Teens
X-ORIGINAL-URL:https://esconditeteens.es
X-WR-CALDESC:Eventos para Escondite Teens
BEGIN:VTIMEZONE
TZID:UTC
BEGIN:STANDARD
TZOFFSETFROM:+0000
TZOFFSETTO:+0000
TZNAME:UTC
DTSTART:20210101T000000
END:STANDARD
END:VTIMEZONE
BEGIN:VEVENT
DTSTART;TZID=UTC:20211218T170000
DTEND;TZID=UTC:20211218T200000
DTSTAMP:20260424T081431
CREATED:20211122T103553Z
LAST-MODIFIED:20211122T103553Z
UID:4142-1639846800-1639857600@esconditeteens.es
SUMMARY:Cumple Escondite (Evento privado)
DESCRIPTION:Hoy disfrutamos de un cumple al más puro estilo Escondite\, juego libre\, hinchable\, merienda y minidisco. Al salir\, que no falten las chuches. \n
URL:https://esconditeteens.es/calendar/cumple-escondite-evento-privado-10/
CATEGORIES:Cumpleaños
END:VEVENT
END:VCALENDAR