BEGIN:VCALENDAR
VERSION:2.0
PRODID:-//Escondite Teens - ECPv4.9.9//NONSGML v1.0//EN
CALSCALE:GREGORIAN
METHOD:PUBLISH
X-WR-CALNAME:Escondite Teens
X-ORIGINAL-URL:https://esconditeteens.es
X-WR-CALDESC:Eventos para Escondite Teens
BEGIN:VTIMEZONE
TZID:UTC
BEGIN:STANDARD
TZOFFSETFROM:+0000
TZOFFSETTO:+0000
TZNAME:UTC
DTSTART:20200101T000000
END:STANDARD
END:VTIMEZONE
BEGIN:VEVENT
DTSTART;TZID=UTC:20200314T110000
DTEND;TZID=UTC:20200314T140000
DTSTAMP:20260423T182859
CREATED:20200304T092039Z
LAST-MODIFIED:20200304T092039Z
UID:2503-1584183600-1584194400@esconditeteens.es
SUMMARY:Cumpleaños Escondite
DESCRIPTION:Evento priva \n
URL:https://esconditeteens.es/calendar/cumpleanos-escondite-25/
LOCATION:Escondite teens\, Avd. García Barbón 23\, Entrada por Rúa do Roupeiro\, Vigo\, Pontevedra\, 36201\, España
CATEGORIES:Cumpleaños
ATTACH;FMTTYPE=image/jpeg:https://esconditeteens.es/wp-content/uploads/2020/01/20200114_105649.jpg
ORGANIZER;CN="Escondite%20Teens":MAILTO:hola@esconditeteens.com
END:VEVENT
END:VCALENDAR