BEGIN:VCALENDAR
VERSION:2.0
PRODID:-//Escondite Teens - ECPv4.9.9//NONSGML v1.0//EN
CALSCALE:GREGORIAN
METHOD:PUBLISH
X-WR-CALNAME:Escondite Teens
X-ORIGINAL-URL:https://esconditeteens.es
X-WR-CALDESC:Eventos para Escondite Teens
BEGIN:VTIMEZONE
TZID:UTC
BEGIN:STANDARD
TZOFFSETFROM:+0000
TZOFFSETTO:+0000
TZNAME:UTC
DTSTART:20200101T000000
END:STANDARD
END:VTIMEZONE
BEGIN:VEVENT
DTSTART;TZID=UTC:20201009T170000
DTEND;TZID=UTC:20201009T210000
DTSTAMP:20260424T021251
CREATED:20200929T152412Z
LAST-MODIFIED:20200929T152412Z
UID:3078-1602262800-1602277200@esconditeteens.es
SUMMARY:Cumpleaños Escondite Bolbolúa
DESCRIPTION:Hoy se esconde en nuestro espacio… Jessy de Bolbolúa Animación\, si\, hoy viene a celebrar un cumple nuestra compañera Jessy! Disfruta en nuestro espacio de un cumple con sabor a Bolbolúa… \n
URL:https://esconditeteens.es/calendar/cumpleanos-escondite-bolbolua/
LOCATION:Escondite teens\, Avd. García Barbón 23\, Entrada por Rúa do Roupeiro\, Vigo\, Pontevedra\, 36201\, España
ATTACH;FMTTYPE=image/jpeg:https://esconditeteens.es/wp-content/uploads/2020/09/WhatsApp-Image-2020-09-25-at-21.42.20.jpeg
ORGANIZER;CN="Bolbol%C3%BAa%20Animaci%C3%B3n":MAILTO:info@bolbolua.com
END:VEVENT
END:VCALENDAR