BEGIN:VCALENDAR
VERSION:2.0
PRODID:-//Escondite Teens - ECPv4.9.9//NONSGML v1.0//EN
CALSCALE:GREGORIAN
METHOD:PUBLISH
X-WR-CALNAME:Escondite Teens
X-ORIGINAL-URL:https://esconditeteens.es
X-WR-CALDESC:Eventos para Escondite Teens
BEGIN:VTIMEZONE
TZID:UTC
BEGIN:STANDARD
TZOFFSETFROM:+0000
TZOFFSETTO:+0000
TZNAME:UTC
DTSTART:20210101T000000
END:STANDARD
END:VTIMEZONE
BEGIN:VEVENT
DTSTART;TZID=UTC:20211204T173000
DTEND;TZID=UTC:20211204T203000
DTSTAMP:20260423T231825
CREATED:20211122T100833Z
LAST-MODIFIED:20211122T100833Z
UID:4116-1638639000-1638649800@esconditeteens.es
SUMMARY:Cumpleaños Escondite (Evento Privado)
DESCRIPTION:Hoy disfrutamos de un cumple al más puro estilo Escondite\, juego libre\, hinchable\, merienda y minidisco. Al salir que no falten las chuches. \n
URL:https://esconditeteens.es/calendar/cumpleanos-escondite-evento-privado-3/
CATEGORIES:Cumpleaños
ATTACH;FMTTYPE=image/jpeg:https://esconditeteens.es/wp-content/uploads/2018/08/20200906_132020-e1601396249444.jpg
END:VEVENT
END:VCALENDAR