BEGIN:VCALENDAR
VERSION:2.0
PRODID:-//Escondite Teens - ECPv4.9.9//NONSGML v1.0//EN
CALSCALE:GREGORIAN
METHOD:PUBLISH
X-WR-CALNAME:Escondite Teens
X-ORIGINAL-URL:https://esconditeteens.es
X-WR-CALDESC:Eventos para Escondite Teens
BEGIN:VTIMEZONE
TZID:UTC
BEGIN:STANDARD
TZOFFSETFROM:+0000
TZOFFSETTO:+0000
TZNAME:UTC
DTSTART:20210101T000000
END:STANDARD
END:VTIMEZONE
BEGIN:VEVENT
DTSTART;TZID=UTC:20211129T173000
DTEND;TZID=UTC:20211129T203000
DTSTAMP:20260423T233812
CREATED:20211122T095127Z
LAST-MODIFIED:20211122T095127Z
UID:4103-1638207000-1638217800@esconditeteens.es
SUMMARY:Cumpleaños Escondite (Evento privado)
DESCRIPTION:Hoy disfrutamos de un cumple al más puro estilo Escondite\, juego libre\, hinchable\, merienda y minidisco. Al salir que no falten las chuches. \n
URL:https://esconditeteens.es/calendar/cumpleanos-escondite-evento-privado/
LOCATION:Escondite teens\, Avd. García Barbón 23\, Entrada por Rúa do Roupeiro\, Vigo\, Pontevedra\, 36201\, España
CATEGORIES:Cumpleaños
ATTACH;FMTTYPE=image/jpeg:https://esconditeteens.es/wp-content/uploads/2020/09/20200906_132020.jpg
ORGANIZER;CN="Escondite%20Teens":MAILTO:hola@esconditeteens.com
END:VEVENT
END:VCALENDAR