BEGIN:VCALENDAR
VERSION:2.0
PRODID:-//Escondite Teens - ECPv4.9.9//NONSGML v1.0//EN
CALSCALE:GREGORIAN
METHOD:PUBLISH
X-WR-CALNAME:Escondite Teens
X-ORIGINAL-URL:https://esconditeteens.es
X-WR-CALDESC:Eventos para Escondite Teens
BEGIN:VTIMEZONE
TZID:UTC
BEGIN:STANDARD
TZOFFSETFROM:+0000
TZOFFSETTO:+0000
TZNAME:UTC
DTSTART:20200101T000000
END:STANDARD
END:VTIMEZONE
BEGIN:VEVENT
DTSTART;TZID=UTC:20200221T170000
DTEND;TZID=UTC:20200221T200000
DTSTAMP:20260423T211800
CREATED:20200104T090338Z
LAST-MODIFIED:20200104T090338Z
UID:2345-1582304400-1582315200@esconditeteens.es
SUMMARY:Cumpleaños Street Style Grafiti
DESCRIPTION:Evento privado \n
URL:https://esconditeteens.es/calendar/cumpleanos-street-style-grafiti/
LOCATION:Escondite teens\, Avd. García Barbón 23\, Entrada por Rúa do Roupeiro\, Vigo\, Pontevedra\, 36201\, España
CATEGORIES:Cumpleaños
ATTACH;FMTTYPE=image/jpeg:https://esconditeteens.es/wp-content/uploads/2019/12/20191130_113625-e1575322528931.jpg
ORGANIZER;CN="Escondite%20Teens":MAILTO:hola@esconditeteens.com
END:VEVENT
END:VCALENDAR