BEGIN:VCALENDAR
VERSION:2.0
PRODID:-//Escondite Teens - ECPv4.9.9//NONSGML v1.0//EN
CALSCALE:GREGORIAN
METHOD:PUBLISH
X-WR-CALNAME:Escondite Teens
X-ORIGINAL-URL:https://esconditeteens.es
X-WR-CALDESC:Eventos para Escondite Teens
BEGIN:VTIMEZONE
TZID:UTC
BEGIN:STANDARD
TZOFFSETFROM:+0000
TZOFFSETTO:+0000
TZNAME:UTC
DTSTART:20200101T000000
END:STANDARD
END:VTIMEZONE
BEGIN:VEVENT
DTSTART;TZID=UTC:20201114T170000
DTEND;TZID=UTC:20201114T210000
DTSTAMP:20260424T005752
CREATED:20201007T173123Z
LAST-MODIFIED:20201008T075617Z
UID:3159-1605373200-1605387600@esconditeteens.es
SUMMARY:Cumpleaños Teens Marta
DESCRIPTION:Una tarde con tus mejores amigos\, con un plan tranquilo\, juegos\, risas\, historias… seguro que no te apetece? Si esto lo trasladas a un entorno seguro\, en el que además de proporcionarles las herramientas para que se lo pasen en grande\, nos ocuparemos de que lo hagan con todas las garantías… seguro que te apuntas! \n
URL:https://esconditeteens.es/calendar/cumpleanos-teens-marta/
LOCATION:Escondite teens\, Avd. García Barbón 23\, Entrada por Rúa do Roupeiro\, Vigo\, Pontevedra\, 36201\, España
CATEGORIES:Cumpleaños
ATTACH;FMTTYPE=image/jpeg:https://esconditeteens.es/wp-content/uploads/2019/11/20191118_125814.jpg
ORGANIZER;CN="Escondite%20Teens":MAILTO:hola@esconditeteens.com
END:VEVENT
END:VCALENDAR