BEGIN:VCALENDAR
VERSION:2.0
PRODID:-//Escondite Teens - ECPv4.9.9//NONSGML v1.0//EN
CALSCALE:GREGORIAN
METHOD:PUBLISH
X-WR-CALNAME:Escondite Teens
X-ORIGINAL-URL:https://esconditeteens.es
X-WR-CALDESC:Eventos para Escondite Teens
BEGIN:VTIMEZONE
TZID:UTC
BEGIN:STANDARD
TZOFFSETFROM:+0000
TZOFFSETTO:+0000
TZNAME:UTC
DTSTART:20200101T000000
END:STANDARD
END:VTIMEZONE
BEGIN:VEVENT
DTSTART;TZID=UTC:20200322T170000
DTEND;TZID=UTC:20200322T210000
DTSTAMP:20260423T200439
CREATED:20200304T093502Z
LAST-MODIFIED:20200304T093502Z
UID:2513-1584896400-1584910800@esconditeteens.es
SUMMARY:Cumpleaños temático
DESCRIPTION:Evento privado \n
URL:https://esconditeteens.es/calendar/cumpleanos-tematico-4/
LOCATION:Escondite teens\, Avd. García Barbón 23\, Entrada por Rúa do Roupeiro\, Vigo\, Pontevedra\, 36201\, España
CATEGORIES:Cumpleaños
ORGANIZER;CN="Escondite%20Teens":MAILTO:hola@esconditeteens.com
END:VEVENT
END:VCALENDAR