BEGIN:VCALENDAR
VERSION:2.0
PRODID:-//Escondite Teens - ECPv4.9.9//NONSGML v1.0//EN
CALSCALE:GREGORIAN
METHOD:PUBLISH
X-WR-CALNAME:Escondite Teens
X-ORIGINAL-URL:https://esconditeteens.es
X-WR-CALDESC:Eventos para Escondite Teens
BEGIN:VTIMEZONE
TZID:UTC
BEGIN:STANDARD
TZOFFSETFROM:+0000
TZOFFSETTO:+0000
TZNAME:UTC
DTSTART:20190101T000000
END:STANDARD
END:VTIMEZONE
BEGIN:VEVENT
DTSTART;TZID=UTC:20191212T180000
DTEND;TZID=UTC:20191212T200000
DTSTAMP:20260423T221906
CREATED:20191202T095926Z
LAST-MODIFIED:20191202T095926Z
UID:2233-1576173600-1576180800@esconditeteens.es
SUMMARY:II Taller práctico de iniciación a la fotografía
DESCRIPTION:Nueva convocatoria para el taller práctico de iniciación a la fotografía. El próximo 12 de diciembre de 18:00 a 20:00 volveremos a reunirnos para recibir una clase práctica de la mano de Laura Montero de @elemelphoto. \nComo os explicábamos en la charla que dimos el mes pasado\, la fotografía\, además de hacernos disfrutar de su propio resultado\, nos aporta infinidad de beneficios\, es una actividad que mantiene la memoria activa\, incrementa nuestra capacidad de observación y mejora nuestra autoestima. \nLa fotografía también nos hace pacientes\, reduce nuestra ansiedad y estrés y general nuevos puntos de vista\, en resumen\, son todo beneficios… \nEn este taller práctico\, trabajamos la fotografía desde el inicio\, conociendo los aspectos más básicos para conseguir con nociones básicas fotografías de calidad\, no te quedes sin captar el momento perfecto por no venir a este taller\, te esperamos! \n
URL:https://esconditeteens.es/calendar/ii-taller-practico-de-iniciacion-a-la-fotografia/
LOCATION:Escondite teens\, Avd. García Barbón 23\, Entrada por Rúa do Roupeiro\, Vigo\, Pontevedra\, 36201\, España
CATEGORIES:Taller
ORGANIZER;CN="Elemelphoto":MAILTO:elemelphoto@gmail.com
END:VEVENT
END:VCALENDAR