BEGIN:VCALENDAR
VERSION:2.0
PRODID:-//Escondite Teens - ECPv4.9.9//NONSGML v1.0//EN
CALSCALE:GREGORIAN
METHOD:PUBLISH
X-WR-CALNAME:Escondite Teens
X-ORIGINAL-URL:https://esconditeteens.es
X-WR-CALDESC:Eventos para Escondite Teens
BEGIN:VTIMEZONE
TZID:UTC
BEGIN:STANDARD
TZOFFSETFROM:+0000
TZOFFSETTO:+0000
TZNAME:UTC
DTSTART:20200101T000000
END:STANDARD
END:VTIMEZONE
BEGIN:VEVENT
DTSTART;TZID=UTC:20200103T093000
DTEND;TZID=UTC:20200103T133000
DTSTAMP:20260423T222518
CREATED:20191216T174231Z
LAST-MODIFIED:20191216T174231Z
UID:2310-1578043800-1578058200@esconditeteens.es
SUMMARY:Retales de Navidad
DESCRIPTION:Hemos preparado una mañana muy creativa\, en este taller trabajaremos los conceptos básicos de costura y veremos qué nos hace falta para poner en marcha un proyecto de costura. \nVeremos tres puntadas de iniciación\, cortaremos con  un patrón\, haremos un hilván en nuestra tarea… y si la mañana nos lo permite… finalizaremos nuestro primer proyecto de costura. \nComo siempre de 09:30 a 13:30 con un break para merendar\, y si tenemos alguna tarea pendiente para estas navidades\, podremos avanzarla en El Escondite Teens. \n
URL:https://esconditeteens.es/calendar/retales-de-navidad/
LOCATION:Escondite teens\, Avd. García Barbón 23\, Entrada por Rúa do Roupeiro\, Vigo\, Pontevedra\, 36201\, España
CATEGORIES:Taller
ORGANIZER;CN="Escondite%20Teens":MAILTO:hola@esconditeteens.com
END:VEVENT
END:VCALENDAR