BEGIN:VCALENDAR
VERSION:2.0
PRODID:-//Escondite Teens - ECPv4.9.9//NONSGML v1.0//EN
CALSCALE:GREGORIAN
METHOD:PUBLISH
X-WR-CALNAME:Escondite Teens
X-ORIGINAL-URL:https://esconditeteens.es
X-WR-CALDESC:Eventos para Escondite Teens
BEGIN:VTIMEZONE
TZID:UTC
BEGIN:STANDARD
TZOFFSETFROM:+0000
TZOFFSETTO:+0000
TZNAME:UTC
DTSTART:20190101T000000
END:STANDARD
END:VTIMEZONE
BEGIN:VEVENT
DTSTART;TZID=UTC:20191202T180000
DTEND;TZID=UTC:20191202T183000
DTSTAMP:20260423T231959
CREATED:20191202T100754Z
LAST-MODIFIED:20191202T100754Z
UID:2239-1575309600-1575311400@esconditeteens.es
SUMMARY:Sesión fotográfica
DESCRIPTION:Evento privado. Sesión fotográfica. Sala de madera. \n
URL:https://esconditeteens.es/calendar/sesion-fotografica/
LOCATION:Escondite teens\, Avd. García Barbón 23\, Entrada por Rúa do Roupeiro\, Vigo\, Pontevedra\, 36201\, España
ATTACH;FMTTYPE=image/jpeg:https://esconditeteens.es/wp-content/uploads/2019/12/20191121_192917.jpg
ORGANIZER;CN="Elemelphoto":MAILTO:elemelphoto@gmail.com
END:VEVENT
END:VCALENDAR