BEGIN:VCALENDAR
VERSION:2.0
PRODID:-//Escondite Teens - ECPv4.9.9//NONSGML v1.0//EN
CALSCALE:GREGORIAN
METHOD:PUBLISH
X-WR-CALNAME:Escondite Teens
X-ORIGINAL-URL:https://esconditeteens.es
X-WR-CALDESC:Eventos para Escondite Teens
BEGIN:VTIMEZONE
TZID:UTC
BEGIN:STANDARD
TZOFFSETFROM:+0000
TZOFFSETTO:+0000
TZNAME:UTC
DTSTART:20200101T000000
END:STANDARD
END:VTIMEZONE
BEGIN:VEVENT
DTSTART;TZID=UTC:20200919T170000
DTEND;TZID=UTC:20200919T210000
DTSTAMP:20260423T221037
CREATED:20200916T155422Z
LAST-MODIFIED:20200916T155422Z
UID:2964-1600534800-1600549200@esconditeteens.es
SUMMARY:Tarde de juegos en casa
DESCRIPTION:Hoy celebramos un cumple muy especial y de una forma muy especial\, hoy Clara se va a reunir con unas amiguitas en casa y vamos a acompañarlas para que puedan disfrutar de una tarde genial. \nJuegos tradicionales y divertidos\, en El Escondite apostamos por las cosas tradicionales\, las de toda la vida\, haciendo lo mejor que podemos hacer para que puedan disfrutar como siempre… el retorno de los juegos tradicionales. \n
URL:https://esconditeteens.es/calendar/tarde-de-juegos-en-casa/
CATEGORIES:Cumpleaños
ATTACH;FMTTYPE=image/jpeg:https://esconditeteens.es/wp-content/uploads/2020/03/2355307.jpg
ORGANIZER;CN="Escondite%20Teens":MAILTO:hola@esconditeteens.com
END:VEVENT
END:VCALENDAR