BEGIN:VCALENDAR
VERSION:2.0
PRODID:-//Escondite Teens - ECPv4.9.9//NONSGML v1.0//EN
CALSCALE:GREGORIAN
METHOD:PUBLISH
X-WR-CALNAME:Escondite Teens
X-ORIGINAL-URL:https://esconditeteens.es
X-WR-CALDESC:Eventos para Escondite Teens
BEGIN:VTIMEZONE
TZID:UTC
BEGIN:STANDARD
TZOFFSETFROM:+0000
TZOFFSETTO:+0000
TZNAME:UTC
DTSTART:20190101T000000
END:STANDARD
END:VTIMEZONE
BEGIN:VEVENT
DTSTART;TZID=UTC:20191111T193000
DTEND;TZID=UTC:20191111T203000
DTSTAMP:20260423T231826
CREATED:20180809T091305Z
LAST-MODIFIED:20191118T181019Z
UID:210-1573500600-1573504200@esconditeteens.es
SUMMARY:Charla Beneficios de la Fotografía
DESCRIPTION:Tendremos una charla en la que os contaremos los beneficios de la fotografía tanto para niños\, adolescentes como adultos.\nOs presentaremos nuestros talleres de fotografía\, nuestros cumples con sesión Fotográfica y alguna que otra sorpresa más! \nDe la mano de Laura Montero de Elemelphoto os presentaremos también nuestras sesiones fotográficas. \nNo te lo pierdas! \n
URL:https://esconditeteens.es/calendar/wall-climbing-open-class-for-kids/
LOCATION:Escondite teens\, Avd. García Barbón 23\, Entrada por Rúa do Roupeiro\, Vigo\, Pontevedra\, 36201\, España
CATEGORIES:Charla
ATTACH;FMTTYPE=image/jpeg:https://esconditeteens.es/wp-content/uploads/2019/10/5.jpg
ORGANIZER;CN="Escondite%20Teens":MAILTO:hola@esconditeteens.com
END:VEVENT
END:VCALENDAR